BEGIN:VCALENDAR
VERSION:2.0
PRODID:-//www.ketchikanarts.org//NONSGML kigkonsult.se iCalcreator 2.30.10/
 /
CALSCALE:GREGORIAN
METHOD:PUBLISH
UID:1970c7b5-7842-47b3-85ce-c44cef424867
X-WR-CALDESC:
X-WR-RELCALID:55923ecac8a0e98bc146d2354a41d0b3
X-WR-TIMEZONE:America/Anchorage
BEGIN:VTIMEZONE
TZID:America/Anchorage
BEGIN:STANDARD
TZNAME:AKST
DTSTART:20241103T020000
TZOFFSETFROM:-0800
TZOFFSETTO:-0900
RDATE:20251102T020000
END:STANDARD
BEGIN:DAYLIGHT
TZNAME:AKDT
DTSTART:20250309T020000
TZOFFSETFROM:-0900
TZOFFSETTO:-0800
RDATE:20260308T020000
END:DAYLIGHT
END:VTIMEZONE
BEGIN:VEVENT
UID:4137aa49-518d-4c8e-a67d-83ff6f276acf
DTSTAMP:20260421T073255Z
DESCRIPTION:
DTSTART;TZID=America/Anchorage:20250313T130000
DTEND;TZID=America/Anchorage:20250313T170000
LOCATION:Totem Heritage Center
SUMMARY:Native Arts Studies Program - Formline Design Spring Break Class!!!
END:VEVENT
END:VCALENDAR
