BEGIN:VCALENDAR
VERSION:2.0
PRODID:-//www.ketchikanarts.org//NONSGML kigkonsult.se iCalcreator 2.30.10/
 /
CALSCALE:GREGORIAN
METHOD:PUBLISH
UID:ba59555a-c603-44df-87af-4a77c52df7fc
X-WR-CALDESC:
X-WR-RELCALID:5dfd6107f2062db9910e8ef17fbedb7e
X-WR-TIMEZONE:America/Anchorage
BEGIN:VTIMEZONE
TZID:America/Anchorage
BEGIN:STANDARD
TZNAME:AKST
DTSTART:20241103T020000
TZOFFSETFROM:-0800
TZOFFSETTO:-0900
RDATE:20251102T020000
END:STANDARD
BEGIN:DAYLIGHT
TZNAME:AKDT
DTSTART:20250309T020000
TZOFFSETFROM:-0900
TZOFFSETTO:-0800
RDATE:20260308T020000
END:DAYLIGHT
END:VTIMEZONE
BEGIN:VEVENT
UID:ba472898-9933-4b01-b573-cf6921e2730b
DTSTAMP:20260421T073300Z
DESCRIPTION:
DTSTART;TZID=America/Anchorage:20250313T080000
DTEND;TZID=America/Anchorage:20250313T120000
LOCATION:Totem Heritage Center
SUMMARY:Native Arts Studies Program - Cedar Bark Weaving Spring Break Class
 !!!
END:VEVENT
END:VCALENDAR
