BEGIN:VCALENDAR
VERSION:2.0
PRODID:-//www.ketchikanarts.org//NONSGML kigkonsult.se iCalcreator 2.30.10/
 /
CALSCALE:GREGORIAN
METHOD:PUBLISH
UID:0461083b-a670-4fa6-906f-4bf12c54064c
X-WR-CALDESC:
X-WR-RELCALID:4f8e262a511275962f16b84b6f8b3142
X-WR-TIMEZONE:America/Anchorage
BEGIN:VTIMEZONE
TZID:America/Anchorage
BEGIN:STANDARD
TZNAME:AKST
DTSTART:20241103T020000
TZOFFSETFROM:-0800
TZOFFSETTO:-0900
RDATE:20251102T020000
END:STANDARD
BEGIN:DAYLIGHT
TZNAME:AKDT
DTSTART:20240310T020000
TZOFFSETFROM:-0900
TZOFFSETTO:-0800
RDATE:20250309T020000
RDATE:20260308T020000
END:DAYLIGHT
END:VTIMEZONE
BEGIN:VEVENT
UID:2fe265a1-16c1-4ba3-a6e6-0ef277037bfe
DTSTAMP:20260421T073158Z
DESCRIPTION:
DTSTART;TZID=America/Anchorage:20250310T080000
DTEND;TZID=America/Anchorage:20250310T120000
LOCATION:Totem Heritage Center
SUMMARY:Native Arts Studies Program - Cedar Bark Weaving Spring Break Class
 !!!
END:VEVENT
END:VCALENDAR
