BEGIN:VCALENDAR
VERSION:2.0
PRODID:-//www.ketchikanarts.org//NONSGML kigkonsult.se iCalcreator 2.30.10/
 /
CALSCALE:GREGORIAN
METHOD:PUBLISH
UID:e015ab59-1da9-409c-9ea5-637fa2821604
X-WR-CALDESC:KCCB rehearses for the April 13\, 3pm performance!!
X-WR-RELCALID:bfcd892e2ea89cff7cf517cc66e1a0dd
X-WR-TIMEZONE:America/Anchorage
BEGIN:VTIMEZONE
TZID:America/Anchorage
BEGIN:STANDARD
TZNAME:AKST
DTSTART:20241103T020000
TZOFFSETFROM:-0800
TZOFFSETTO:-0900
RDATE:20251102T020000
END:STANDARD
BEGIN:DAYLIGHT
TZNAME:AKDT
DTSTART:20240310T020000
TZOFFSETFROM:-0900
TZOFFSETTO:-0800
RDATE:20250309T020000
RDATE:20260308T020000
END:DAYLIGHT
END:VTIMEZONE
BEGIN:VEVENT
UID:6b092ba1-780b-4a12-9397-45c1098bc094
DTSTAMP:20260421T085951Z
DESCRIPTION:KCCB rehearses for the April 13\, 3pm performance!!
DTSTART;TZID=America/Anchorage:20250217T190000
DTEND;TZID=America/Anchorage:20250217T203000
LOCATION:First Assembly Church of God
SUMMARY:Ketchikan Community Concert Band Rehearsals
END:VEVENT
END:VCALENDAR
