BEGIN:VCALENDAR
VERSION:2.0
PRODID:-//www.ketchikanarts.org//NONSGML kigkonsult.se iCalcreator 2.30.10/
 /
CALSCALE:GREGORIAN
METHOD:PUBLISH
UID:44f38d1e-b769-440e-a166-8163ecf6c799
X-WR-CALDESC:Feb 7\; 17:30-19:30\n\n4 spots \n\nBasics of Wheel Throwing wi
 ll begin with an introduction to the studio and a potters wheel demonstrat
 ion. You will learn the basic steps of throwing a cylinder on the wheel be
 fore trying it out yourself using up to four one-pound balls of clay. \n\n
 You can keep your new works of art\, we will dry\, trim\, bisque fire\, gl
 aze and glaze fire them for you. When your masterpieces are finished\, we 
 will notify you when they are ready for pick-up (allow three to six weeks)
 .\n\nPlease arrive 5-10 minutes early. The first 10 minutes of class will 
 be covering studio etiquette and the last 15 minutes of class will be set 
 aside for clean up.\n\nBasics of Wheel Throwing is required to access othe
 r studio classes.\n\nDue to limited space\, cancellations more than 2 week
 s in advance are entitled to a full refund. Less than 14 days notice prior
  to a class are eligible for 50% of the registration fee. Less than 24hrs 
 notice is non-refundable.\n\n*Students must be 18 and older to enroll. \n
 \nClasses Continue through March\n\nHere’s a list of upcoming classes- mor
 e are listed on the website. \n\nBasics of Wheel Throwing Feb 7\; 5:30-7:3
 0\nBasics of Wheel Throwing Feb 8\; 9:00-11:00\n\nPaint Your Own Pottery a
 t the Cidery Feb 12\; 4:30-7:00\nValentines Sculptural Mug workshop Feb 14
 \; 5:30-7:30\n\nMug Making Workshop Feb 15\; 4:00-6:00 and feb 16\; 09:00-
 12:00\n\nBasics of Wheel Throwing Feb 21\; 5:30-7:30\nBasics of Wheel Thro
 wing Feb 22\; 9:00-11:00\n\nBasics of Wheel Throwing Feb 28\; 5:30-7:30\nB
 asics of Wheel Throwing March 1\; 9:00-11:00\n\nPlate Making Workshop Marc
 h 7\; 5:30-7:30 and march 8\; 09:00-11:00\n\nLuminaries Workshop  March 14
 \; 5:30-7:30 and march 15\; 09:00-11:00\n
X-WR-RELCALID:42c57955a3f7f0b2b9b4a831a933cc5c
X-WR-TIMEZONE:America/Anchorage
BEGIN:VTIMEZONE
TZID:America/Anchorage
BEGIN:STANDARD
TZNAME:AKST
DTSTART:20241103T020000
TZOFFSETFROM:-0800
TZOFFSETTO:-0900
RDATE:20251102T020000
END:STANDARD
BEGIN:DAYLIGHT
TZNAME:AKDT
DTSTART:20240310T020000
TZOFFSETFROM:-0900
TZOFFSETTO:-0800
RDATE:20250309T020000
RDATE:20260308T020000
END:DAYLIGHT
END:VTIMEZONE
BEGIN:VEVENT
UID:f47f0bfe-65df-49fb-b699-6cedb4ac6caf
DTSTAMP:20260421T085123Z
DESCRIPTION:Feb 7\; 17:30-19:30\n\n4 spots \n\nBasics of Wheel Throwing wil
 l begin with an introduction to the studio and a potters wheel demonstrati
 on. You will learn the basic steps of throwing a cylinder on the wheel bef
 ore trying it out yourself using up to four one-pound balls of clay. \n\nY
 ou can keep your new works of art\, we will dry\, trim\, bisque fire\, gla
 ze and glaze fire them for you. When your masterpieces are finished\, we w
 ill notify you when they are ready for pick-up (allow three to six weeks).
 \n\nPlease arrive 5-10 minutes early. The first 10 minutes of class will b
 e covering studio etiquette and the last 15 minutes of class will be set a
 side for clean up.\n\nBasics of Wheel Throwing is required to access other
  studio classes.\n\nDue to limited space\, cancellations more than 2 weeks
  in advance are entitled to a full refund. Less than 14 days notice prior 
 to a class are eligible for 50% of the registration fee. Less than 24hrs n
 otice is non-refundable.\n\n*Students must be 18 and older to enroll. \n\n
 Classes Continue through March\n\nHere’s a list of upcoming classes- more 
 are listed on the website. \n\nBasics of Wheel Throwing Feb 7\; 5:30-7:30
 \nBasics of Wheel Throwing Feb 8\; 9:00-11:00\n\nPaint Your Own Pottery at
  the Cidery Feb 12\; 4:30-7:00\nValentines Sculptural Mug workshop Feb 14\
 ; 5:30-7:30\n\nMug Making Workshop Feb 15\; 4:00-6:00 and feb 16\; 09:00-1
 2:00\n\nBasics of Wheel Throwing Feb 21\; 5:30-7:30\nBasics of Wheel Throw
 ing Feb 22\; 9:00-11:00\n\nBasics of Wheel Throwing Feb 28\; 5:30-7:30\nBa
 sics of Wheel Throwing March 1\; 9:00-11:00\n\nPlate Making Workshop March
  7\; 5:30-7:30 and march 8\; 09:00-11:00\n\nLuminaries Workshop  March 14\
 ; 5:30-7:30 and march 15\; 09:00-11:00\n
DTSTART;TZID=America/Anchorage:20250207T173000
DTEND;TZID=America/Anchorage:20250207T193000
LOCATION:
SUMMARY:Basics of Wheel Throwing
END:VEVENT
END:VCALENDAR
