BEGIN:VCALENDAR
VERSION:2.0
PRODID:-//www.ketchikanarts.org//NONSGML kigkonsult.se iCalcreator 2.30.10/
 /
CALSCALE:GREGORIAN
METHOD:PUBLISH
UID:10c296e6-129b-4271-bf56-ee4841004828
X-WR-CALDESC:KCCB kicks off rehearsals for the April 13\, 3pm performance!!
X-WR-RELCALID:f62e7dfdbddc775beafe90f7adcda8c1
X-WR-TIMEZONE:America/Anchorage
BEGIN:VTIMEZONE
TZID:America/Anchorage
BEGIN:STANDARD
TZNAME:AKST
DTSTART:20241103T020000
TZOFFSETFROM:-0800
TZOFFSETTO:-0900
RDATE:20251102T020000
END:STANDARD
BEGIN:DAYLIGHT
TZNAME:AKDT
DTSTART:20240310T020000
TZOFFSETFROM:-0900
TZOFFSETTO:-0800
RDATE:20250309T020000
RDATE:20260308T020000
END:DAYLIGHT
END:VTIMEZONE
BEGIN:VEVENT
UID:570125cc-9e28-4f0f-b0b0-5cfee2fdfd0a
DTSTAMP:20260421T102322Z
DESCRIPTION:KCCB kicks off rehearsals for the April 13\, 3pm performance!!
DTSTART;TZID=America/Anchorage:20250120T190000
DTEND;TZID=America/Anchorage:20250120T203000
LOCATION:First Assembly Church of God
SUMMARY:Ketchikan Community Concert Band Rehearsals Begin!
END:VEVENT
END:VCALENDAR
