BEGIN:VCALENDAR
VERSION:2.0
PRODID:-//www.ketchikanarts.org//NONSGML kigkonsult.se iCalcreator 2.30.10/
 /
CALSCALE:GREGORIAN
METHOD:PUBLISH
UID:a107e91d-272b-4f10-a5e1-9800980327cd
X-WR-CALDESC:Singing rehearsal for the Singing Tree project.
X-WR-RELCALID:582999635d7617940cdf05097e5402c2
X-WR-TIMEZONE:America/Anchorage
BEGIN:VTIMEZONE
TZID:America/Anchorage
BEGIN:STANDARD
TZNAME:AKST
DTSTART:20241103T020000
TZOFFSETFROM:-0800
TZOFFSETTO:-0900
RDATE:20251102T020000
END:STANDARD
BEGIN:DAYLIGHT
TZNAME:AKDT
DTSTART:20240310T020000
TZOFFSETFROM:-0900
TZOFFSETTO:-0800
RDATE:20250309T020000
RDATE:20260308T020000
END:DAYLIGHT
END:VTIMEZONE
BEGIN:VEVENT
UID:49f97ce2-27e8-456e-aa0d-aa7c3190a230
DTSTAMP:20260421T131429Z
DESCRIPTION:Singing rehearsal for the Singing Tree project.
DTSTART;TZID=America/Anchorage:20241128T190000
DTEND;TZID=America/Anchorage:20241128T200000
LOCATION:Presbyterian Church Basement
SUMMARY:Singing Tree Rehearsals
END:VEVENT
END:VCALENDAR
