BEGIN:VCALENDAR
VERSION:2.0
PRODID:-//www.ketchikanarts.org//NONSGML kigkonsult.se iCalcreator 2.30.10/
 /
CALSCALE:GREGORIAN
METHOD:PUBLISH
UID:4e346a6b-e3f0-40df-9ed6-c5e01b0ecf34
X-WR-CALDESC:Singing rehearsal for the Singing Tree project.
X-WR-RELCALID:e580b4ea85ed91035577283bffaf05f6
X-WR-TIMEZONE:America/Anchorage
BEGIN:VTIMEZONE
TZID:America/Anchorage
BEGIN:STANDARD
TZNAME:AKST
DTSTART:20241103T020000
TZOFFSETFROM:-0800
TZOFFSETTO:-0900
RDATE:20251102T020000
END:STANDARD
BEGIN:DAYLIGHT
TZNAME:AKDT
DTSTART:20240310T020000
TZOFFSETFROM:-0900
TZOFFSETTO:-0800
RDATE:20250309T020000
RDATE:20260308T020000
END:DAYLIGHT
END:VTIMEZONE
BEGIN:VEVENT
UID:b3b1631f-e58b-4edf-98e6-ee589333cf3e
DTSTAMP:20260421T131645Z
DESCRIPTION:Singing rehearsal for the Singing Tree project.
DTSTART;TZID=America/Anchorage:20241124T150000
DTEND;TZID=America/Anchorage:20241124T160000
LOCATION:Clover Pass Community Church Basement
SUMMARY:Singing Tree Rehearsals
END:VEVENT
END:VCALENDAR
