BEGIN:VCALENDAR
VERSION:2.0
PRODID:-//www.ketchikanarts.org//NONSGML kigkonsult.se iCalcreator 2.30.10/
 /
CALSCALE:GREGORIAN
METHOD:PUBLISH
UID:4b044cc4-81db-47db-873c-15fd76dd2dd8
X-WR-CALDESC:Singing rehearsal for the Singing Tree project.
X-WR-RELCALID:2e162bce3f4b341e71e2865675dc2a5b
X-WR-TIMEZONE:America/Anchorage
BEGIN:VTIMEZONE
TZID:America/Anchorage
BEGIN:STANDARD
TZNAME:AKST
DTSTART:20241103T020000
TZOFFSETFROM:-0800
TZOFFSETTO:-0900
RDATE:20251102T020000
END:STANDARD
BEGIN:DAYLIGHT
TZNAME:AKDT
DTSTART:20240310T020000
TZOFFSETFROM:-0900
TZOFFSETTO:-0800
RDATE:20250309T020000
RDATE:20260308T020000
END:DAYLIGHT
END:VTIMEZONE
BEGIN:VEVENT
UID:c296f208-10a5-4b4c-b9f0-a350de34af41
DTSTAMP:20260421T131251Z
DESCRIPTION:Singing rehearsal for the Singing Tree project.
DTSTART;TZID=America/Anchorage:20241121T190000
DTEND;TZID=America/Anchorage:20241121T200000
LOCATION:Presbyterian Church Basement
SUMMARY:Singing Tree Rehearsals
END:VEVENT
END:VCALENDAR
