BEGIN:VCALENDAR
VERSION:2.0
PRODID:-//www.ketchikanarts.org//NONSGML kigkonsult.se iCalcreator 2.30.10/
 /
CALSCALE:GREGORIAN
METHOD:PUBLISH
UID:24629eb5-f2de-47b4-96d0-e6b343699f79
X-WR-CALDESC:Singing rehearsal for the Singing Tree project.
X-WR-RELCALID:7fa787c77cb1637aa0fe138d55d8d598
X-WR-TIMEZONE:America/Anchorage
BEGIN:VTIMEZONE
TZID:America/Anchorage
BEGIN:STANDARD
TZNAME:AKST
DTSTART:20241103T020000
TZOFFSETFROM:-0800
TZOFFSETTO:-0900
RDATE:20251102T020000
END:STANDARD
BEGIN:DAYLIGHT
TZNAME:AKDT
DTSTART:20240310T020000
TZOFFSETFROM:-0900
TZOFFSETTO:-0800
RDATE:20250309T020000
RDATE:20260308T020000
END:DAYLIGHT
END:VTIMEZONE
BEGIN:VEVENT
UID:5c4b46b9-0e01-4362-9ebf-f6eefc487870
DTSTAMP:20260421T131721Z
DESCRIPTION:Singing rehearsal for the Singing Tree project.
DTSTART;TZID=America/Anchorage:20241117T150000
DTEND;TZID=America/Anchorage:20241117T160000
LOCATION:Clover Pass Community Church Basement
SUMMARY:Singing Tree Rehearsals
END:VEVENT
END:VCALENDAR
