BEGIN:VCALENDAR
VERSION:2.0
PRODID:-//www.ketchikanarts.org//NONSGML kigkonsult.se iCalcreator 2.30.10/
 /
CALSCALE:GREGORIAN
METHOD:PUBLISH
UID:1a6f2389-fb2b-4799-9d10-4c523f69f82b
X-WR-CALDESC:Bring your ukulele and have some fun playing with the group.\n
 Meets Wednesdays at the Bayside Hotel!
X-WR-RELCALID:a09c0b8e022cd99fc61ace78df6bad40
X-WR-TIMEZONE:America/Anchorage
BEGIN:VTIMEZONE
TZID:America/Anchorage
BEGIN:STANDARD
TZNAME:AKST
DTSTART:20241103T020000
TZOFFSETFROM:-0800
TZOFFSETTO:-0900
RDATE:20251102T020000
END:STANDARD
BEGIN:DAYLIGHT
TZNAME:AKDT
DTSTART:20240310T020000
TZOFFSETFROM:-0900
TZOFFSETTO:-0800
RDATE:20250309T020000
RDATE:20260308T020000
END:DAYLIGHT
END:VTIMEZONE
BEGIN:VEVENT
UID:57473950-79ec-4075-afa1-609a0cd3d8ce
DTSTAMP:20260421T131531Z
DESCRIPTION:Bring your ukulele and have some fun playing with the group.\nM
 eets Wednesdays at the Bayside Hotel!
DTSTART;TZID=America/Anchorage:20241106T160000
DTEND;TZID=America/Anchorage:20241106T180000
LOCATION:Bayside Hotel Lobby
SUMMARY:The Ukelele Group
END:VEVENT
END:VCALENDAR
