BEGIN:VCALENDAR
VERSION:2.0
PRODID:-//www.ketchikanarts.org//NONSGML kigkonsult.se iCalcreator 2.30.10/
 /
CALSCALE:GREGORIAN
METHOD:PUBLISH
UID:6aaef25e-2591-4447-a070-23d6f0defe63
X-WR-CALDESC:Bring your ukulele and have some fun playing with the group.\n
 Meets Wednesdays at the Bayside Hotel!
X-WR-RELCALID:f3c04afa0b96d794944147acf60c0b1d
X-WR-TIMEZONE:America/Anchorage
BEGIN:VTIMEZONE
TZID:America/Anchorage
BEGIN:STANDARD
TZNAME:AKST
DTSTART:20231105T020000
TZOFFSETFROM:-0800
TZOFFSETTO:-0900
RDATE:20241103T020000
RDATE:20251102T020000
END:STANDARD
BEGIN:DAYLIGHT
TZNAME:AKDT
DTSTART:20240310T020000
TZOFFSETFROM:-0900
TZOFFSETTO:-0800
RDATE:20250309T020000
RDATE:20260308T020000
END:DAYLIGHT
END:VTIMEZONE
BEGIN:VEVENT
UID:1b988e9c-b0b9-4a75-90c7-41900006fa21
DTSTAMP:20260421T145440Z
DESCRIPTION:Bring your ukulele and have some fun playing with the group.\nM
 eets Wednesdays at the Bayside Hotel!
DTSTART;TZID=America/Anchorage:20241030T160000
DTEND;TZID=America/Anchorage:20241030T180000
LOCATION:Bayside Hotel Lobby
SUMMARY:The Ukelele Group
END:VEVENT
END:VCALENDAR
