BEGIN:VCALENDAR
VERSION:2.0
PRODID:-//www.ketchikanarts.org//NONSGML kigkonsult.se iCalcreator 2.30.10/
 /
CALSCALE:GREGORIAN
METHOD:PUBLISH
UID:aa74be23-afe4-4910-a5d1-cd11b4f739ea
X-WR-CALDESC:Contact Shop For Specific Time
X-WR-RELCALID:ba40de08a49161ced724f89cedea0b2f
X-WR-TIMEZONE:America/Anchorage
BEGIN:VTIMEZONE
TZID:America/Anchorage
BEGIN:STANDARD
TZNAME:AKST
DTSTART:20231105T020000
TZOFFSETFROM:-0800
TZOFFSETTO:-0900
RDATE:20241103T020000
RDATE:20251102T020000
END:STANDARD
BEGIN:DAYLIGHT
TZNAME:AKDT
DTSTART:20240310T020000
TZOFFSETFROM:-0900
TZOFFSETTO:-0800
RDATE:20250309T020000
RDATE:20260308T020000
END:DAYLIGHT
END:VTIMEZONE
BEGIN:VEVENT
UID:969f1305-f929-41c4-aba0-46226cef1fb1
DTSTAMP:20260421T144834Z
DESCRIPTION:Contact Shop For Specific Time
DTSTART;TZID=America/Anchorage:20241025T020000
DTEND;TZID=America/Anchorage:20241027T020001
LOCATION:716 Totem Way #100
SUMMARY:Fiber Arts Weekend Retreat
END:VEVENT
END:VCALENDAR
