BEGIN:VCALENDAR
VERSION:2.0
PRODID:-//www.ketchikanarts.org//NONSGML kigkonsult.se iCalcreator 2.30.10/
 /
CALSCALE:GREGORIAN
METHOD:PUBLISH
UID:78aef86f-0046-4b21-bb5f-de85c75c7831
X-WR-CALDESC:Bring your ukulele and have some fun playing with the group.\n
 Meets Wednesdays at the Bayside Hotel!
X-WR-RELCALID:1c3173b64d2bb9c12a019c275b1080f8
X-WR-TIMEZONE:America/Anchorage
BEGIN:VTIMEZONE
TZID:America/Anchorage
BEGIN:STANDARD
TZNAME:AKST
DTSTART:20231105T020000
TZOFFSETFROM:-0800
TZOFFSETTO:-0900
RDATE:20241103T020000
RDATE:20251102T020000
END:STANDARD
BEGIN:DAYLIGHT
TZNAME:AKDT
DTSTART:20240310T020000
TZOFFSETFROM:-0900
TZOFFSETTO:-0800
RDATE:20250309T020000
RDATE:20260308T020000
END:DAYLIGHT
END:VTIMEZONE
BEGIN:VEVENT
UID:f9a94169-0b23-471b-a12b-ca1ea5736f30
DTSTAMP:20260421T145631Z
DESCRIPTION:Bring your ukulele and have some fun playing with the group.\nM
 eets Wednesdays at the Bayside Hotel!
DTSTART;TZID=America/Anchorage:20241023T160000
DTEND;TZID=America/Anchorage:20241023T180000
LOCATION:Bayside Hotel Lobby
SUMMARY:The Ukelele Group
END:VEVENT
END:VCALENDAR
