BEGIN:VCALENDAR
VERSION:2.0
PRODID:-//www.ketchikanarts.org//NONSGML kigkonsult.se iCalcreator 2.30.10/
 /
CALSCALE:GREGORIAN
METHOD:PUBLISH
UID:dc91b500-9dca-434c-96ce-f86f3c06ff10
X-WR-CALDESC:Singing rehearsal for the Singing Tree project.
X-WR-RELCALID:46509a0f739e22db36df429d580d70d2
X-WR-TIMEZONE:America/Anchorage
BEGIN:VTIMEZONE
TZID:America/Anchorage
BEGIN:STANDARD
TZNAME:AKST
DTSTART:20231105T020000
TZOFFSETFROM:-0800
TZOFFSETTO:-0900
RDATE:20241103T020000
RDATE:20251102T020000
END:STANDARD
BEGIN:DAYLIGHT
TZNAME:AKDT
DTSTART:20240310T020000
TZOFFSETFROM:-0900
TZOFFSETTO:-0800
RDATE:20250309T020000
RDATE:20260308T020000
END:DAYLIGHT
END:VTIMEZONE
BEGIN:VEVENT
UID:16fe12f8-7ab4-4c30-a120-3b24ae885a7c
DTSTAMP:20260421T145549Z
DESCRIPTION:Singing rehearsal for the Singing Tree project.
DTSTART;TZID=America/Anchorage:20241006T150000
DTEND;TZID=America/Anchorage:20241006T160000
LOCATION:Clover Pass Community Church Basement
SUMMARY:Singing Tree Rehearsals
END:VEVENT
END:VCALENDAR
