BEGIN:VCALENDAR
VERSION:2.0
PRODID:-//www.ketchikanarts.org//NONSGML kigkonsult.se iCalcreator 2.30.10/
 /
CALSCALE:GREGORIAN
METHOD:PUBLISH
UID:a18cce9a-689a-455e-9b00-5a1fb18e0a5d
X-WR-CALDESC:
X-WR-RELCALID:80bf4b98b2d6b681154c8dc45af10c83
X-WR-TIMEZONE:America/Anchorage
BEGIN:VTIMEZONE
TZID:America/Anchorage
BEGIN:STANDARD
TZNAME:AKST
DTSTART:20231105T020000
TZOFFSETFROM:-0800
TZOFFSETTO:-0900
RDATE:20241103T020000
RDATE:20251102T020000
END:STANDARD
BEGIN:DAYLIGHT
TZNAME:AKDT
DTSTART:20240310T020000
TZOFFSETFROM:-0900
TZOFFSETTO:-0800
RDATE:20250309T020000
RDATE:20260308T020000
END:DAYLIGHT
END:VTIMEZONE
BEGIN:VEVENT
UID:9c26fbba-99ea-4d08-bd5f-295be4b4eb28
DTSTAMP:20260421T145241Z
DESCRIPTION:
DTSTART;TZID=America/Anchorage:20241004T170000
DTEND;TZID=America/Anchorage:20241004T190000
LOCATION:#5 Creek Street
SUMMARY:the ARTery - Fall Classes
END:VEVENT
END:VCALENDAR
