BEGIN:VCALENDAR
VERSION:2.0
PRODID:-//www.ketchikanarts.org//NONSGML kigkonsult.se iCalcreator 2.30.10/
 /
CALSCALE:GREGORIAN
METHOD:PUBLISH
UID:4606cb1b-8b25-4606-8a8d-6c345b857b20
X-WR-CALDESC:Singing rehearsal for the Singing Tree project.
X-WR-RELCALID:4bbc138ddae2c0e6a2f7c64806a94cba
X-WR-TIMEZONE:America/Anchorage
BEGIN:VTIMEZONE
TZID:America/Anchorage
BEGIN:STANDARD
TZNAME:AKST
DTSTART:20231105T020000
TZOFFSETFROM:-0800
TZOFFSETTO:-0900
RDATE:20241103T020000
RDATE:20251102T020000
END:STANDARD
BEGIN:DAYLIGHT
TZNAME:AKDT
DTSTART:20240310T020000
TZOFFSETFROM:-0900
TZOFFSETTO:-0800
RDATE:20250309T020000
RDATE:20260308T020000
END:DAYLIGHT
END:VTIMEZONE
BEGIN:VEVENT
UID:c7631915-a871-4530-bf3a-c6f590ed1b3e
DTSTAMP:20260421T145337Z
DESCRIPTION:Singing rehearsal for the Singing Tree project.
DTSTART;TZID=America/Anchorage:20241003T190000
DTEND;TZID=America/Anchorage:20241003T200000
LOCATION:Presbyterian Church Basement
SUMMARY:Singing Tree Rehearsals
END:VEVENT
END:VCALENDAR
