BEGIN:VCALENDAR
VERSION:2.0
PRODID:-//www.ketchikanarts.org//NONSGML kigkonsult.se iCalcreator 2.30.10/
 /
CALSCALE:GREGORIAN
METHOD:PUBLISH
UID:23a4ffaf-2328-4eba-a137-7e5714d176d0
X-WR-CALDESC:
X-WR-RELCALID:46595a1993200361bf33932edf7f7017
X-WR-TIMEZONE:America/Anchorage
BEGIN:VTIMEZONE
TZID:America/Anchorage
BEGIN:STANDARD
TZNAME:AKST
DTSTART:20231105T020000
TZOFFSETFROM:-0800
TZOFFSETTO:-0900
RDATE:20241103T020000
RDATE:20251102T020000
END:STANDARD
BEGIN:DAYLIGHT
TZNAME:AKDT
DTSTART:20240310T020000
TZOFFSETFROM:-0900
TZOFFSETTO:-0800
RDATE:20250309T020000
RDATE:20260308T020000
END:DAYLIGHT
END:VTIMEZONE
BEGIN:VEVENT
UID:4b1fe24c-f62d-4e25-a7c2-de15d39a17a2
DTSTAMP:20260421T145241Z
DESCRIPTION:
DTSTART;TZID=America/Anchorage:20241003T130000
DTEND;TZID=America/Anchorage:20241003T173000
LOCATION:#5 Creek Street
SUMMARY:the ARTery - Fall Classes
END:VEVENT
END:VCALENDAR
