BEGIN:VCALENDAR
VERSION:2.0
PRODID:-//www.ketchikanarts.org//NONSGML kigkonsult.se iCalcreator 2.30.10/
 /
CALSCALE:GREGORIAN
METHOD:PUBLISH
UID:81d9572a-da51-4f26-983e-4c7878967f44
X-WR-CALDESC:Sock knitting Class at a yarn shop.
X-WR-RELCALID:7e2176ad1002630d5d923d03da746b9d
X-WR-TIMEZONE:America/Anchorage
BEGIN:VTIMEZONE
TZID:America/Anchorage
BEGIN:STANDARD
TZNAME:AKST
DTSTART:20231105T020000
TZOFFSETFROM:-0800
TZOFFSETTO:-0900
RDATE:20241103T020000
RDATE:20251102T020000
END:STANDARD
BEGIN:DAYLIGHT
TZNAME:AKDT
DTSTART:20240310T020000
TZOFFSETFROM:-0900
TZOFFSETTO:-0800
RDATE:20250309T020000
RDATE:20260308T020000
END:DAYLIGHT
END:VTIMEZONE
BEGIN:VEVENT
UID:97a97bc1-1733-4845-85bd-a4ce0b2c472c
DTSTAMP:20260421T160211Z
DESCRIPTION:Sock knitting Class at a yarn shop.
DTSTART;TZID=America/Anchorage:20240929T130000
DTEND;TZID=America/Anchorage:20240929T170000
LOCATION:716 Totem Way #100
SUMMARY:TWO AT A TIME SOCK CLASS
END:VEVENT
END:VCALENDAR
