BEGIN:VCALENDAR
VERSION:2.0
PRODID:-//www.ketchikanarts.org//NONSGML kigkonsult.se iCalcreator 2.30.10/
 /
CALSCALE:GREGORIAN
METHOD:PUBLISH
UID:e32910f0-9646-4b0e-84b6-465564cbc795
X-WR-CALDESC:Singing rehearsal for the Singing Tree project.
X-WR-RELCALID:b16929574b44b3206d3413680556fefa
X-WR-TIMEZONE:America/Anchorage
BEGIN:VTIMEZONE
TZID:America/Anchorage
BEGIN:STANDARD
TZNAME:AKST
DTSTART:20231105T020000
TZOFFSETFROM:-0800
TZOFFSETTO:-0900
RDATE:20241103T020000
RDATE:20251102T020000
END:STANDARD
BEGIN:DAYLIGHT
TZNAME:AKDT
DTSTART:20240310T020000
TZOFFSETFROM:-0900
TZOFFSETTO:-0800
RDATE:20250309T020000
RDATE:20260308T020000
END:DAYLIGHT
END:VTIMEZONE
BEGIN:VEVENT
UID:fb9897c9-d481-4365-aced-682e9b6ef15a
DTSTAMP:20260421T160452Z
DESCRIPTION:Singing rehearsal for the Singing Tree project.
DTSTART;TZID=America/Anchorage:20240929T150000
DTEND;TZID=America/Anchorage:20240929T160000
LOCATION:Clover Pass Community Church Basement
SUMMARY:Singing Tree Rehearsals
END:VEVENT
END:VCALENDAR
