BEGIN:VCALENDAR
VERSION:2.0
PRODID:-//www.ketchikanarts.org//NONSGML kigkonsult.se iCalcreator 2.30.10/
 /
CALSCALE:GREGORIAN
METHOD:PUBLISH
UID:4c9b7b78-9e67-4c2c-8064-2a83ee480c6b
X-WR-CALDESC:Limited to Certified Alaska Natives\nSealaska Heritage Institu
 te\, in partnership with Ketchikan Indian Community and Tribal Health Clin
 ic\, will sponsor an in-person\, hand skin-sewing workshop with Louise Kad
 inger\, Sept. 26–29. Space is limited - scholarships available!\nCost: $10
 0 fee covers a sea otter hide (a $350 value)\, as well as patterns\, suppl
 ies\, and instruction. \n\nApplication deadline: Sept. 26–29
X-WR-RELCALID:b6a4047bcefc7f99def986edcc5a32a5
X-WR-TIMEZONE:America/Anchorage
BEGIN:VTIMEZONE
TZID:America/Anchorage
BEGIN:STANDARD
TZNAME:AKST
DTSTART:20231105T020000
TZOFFSETFROM:-0800
TZOFFSETTO:-0900
RDATE:20241103T020000
RDATE:20251102T020000
END:STANDARD
BEGIN:DAYLIGHT
TZNAME:AKDT
DTSTART:20240310T020000
TZOFFSETFROM:-0900
TZOFFSETTO:-0800
RDATE:20250309T020000
RDATE:20260308T020000
END:DAYLIGHT
END:VTIMEZONE
BEGIN:VEVENT
UID:1f671385-0e04-4f7e-88a2-d29d5c0e8d96
DTSTAMP:20260421T160647Z
DESCRIPTION:Limited to Certified Alaska Natives\nSealaska Heritage Institut
 e\, in partnership with Ketchikan Indian Community and Tribal Health Clini
 c\, will sponsor an in-person\, hand skin-sewing workshop with Louise Kadi
 nger\, Sept. 26–29. Space is limited - scholarships available!\nCost: $100
  fee covers a sea otter hide (a $350 value)\, as well as patterns\, suppli
 es\, and instruction. \n\nApplication deadline: Sept. 26–29
DTSTART;TZID=America/Anchorage:20240926T170000
DTEND;TZID=America/Anchorage:20240926T203000
LOCATION:KIC
SUMMARY:Skin Sewing By Hand Workshop - Louise Kadinger
END:VEVENT
END:VCALENDAR
