BEGIN:VCALENDAR
VERSION:2.0
PRODID:-//www.ketchikanarts.org//NONSGML kigkonsult.se iCalcreator 2.30.10/
 /
CALSCALE:GREGORIAN
METHOD:PUBLISH
UID:0e53ebaf-da46-4cd5-9e21-520298dd3e2d
X-WR-CALDESC:Head start singing rehearsal for the Singing Tree project.
X-WR-RELCALID:7dbfd85efafb4198a34d58ca0b78c09c
X-WR-TIMEZONE:America/Anchorage
BEGIN:VTIMEZONE
TZID:America/Anchorage
BEGIN:STANDARD
TZNAME:AKST
DTSTART:20231105T020000
TZOFFSETFROM:-0800
TZOFFSETTO:-0900
RDATE:20241103T020000
RDATE:20251102T020000
END:STANDARD
BEGIN:DAYLIGHT
TZNAME:AKDT
DTSTART:20240310T020000
TZOFFSETFROM:-0900
TZOFFSETTO:-0800
RDATE:20250309T020000
RDATE:20260308T020000
END:DAYLIGHT
END:VTIMEZONE
BEGIN:VEVENT
UID:3ae5e9b5-7517-4f22-a811-931a1606c093
DTSTAMP:20260421T160230Z
DESCRIPTION:Head start singing rehearsal for the Singing Tree project.
DTSTART;TZID=America/Anchorage:20240926T190000
DTEND;TZID=America/Anchorage:20240926T200000
LOCATION:Presbyterian Church Basement
SUMMARY:Head Start Singing Tree Rehearsals
END:VEVENT
END:VCALENDAR
