BEGIN:VCALENDAR
VERSION:2.0
PRODID:-//www.ketchikanarts.org//NONSGML kigkonsult.se iCalcreator 2.30.10/
 /
CALSCALE:GREGORIAN
METHOD:PUBLISH
UID:7513a739-15ee-4b31-ad2c-bfaee3ff14ef
X-WR-CALDESC:Sock knitting Class at a yarn shop.
X-WR-RELCALID:f76194054ac9f57cb01b534db6ab12ec
X-WR-TIMEZONE:America/Anchorage
BEGIN:VTIMEZONE
TZID:America/Anchorage
BEGIN:STANDARD
TZNAME:AKST
DTSTART:20231105T020000
TZOFFSETFROM:-0800
TZOFFSETTO:-0900
RDATE:20241103T020000
RDATE:20251102T020000
END:STANDARD
BEGIN:DAYLIGHT
TZNAME:AKDT
DTSTART:20240310T020000
TZOFFSETFROM:-0900
TZOFFSETTO:-0800
RDATE:20250309T020000
RDATE:20260308T020000
END:DAYLIGHT
END:VTIMEZONE
BEGIN:VEVENT
UID:6d58dd4b-d2e2-4a44-96f4-9d4e23913977
DTSTAMP:20260421T160210Z
DESCRIPTION:Sock knitting Class at a yarn shop.
DTSTART;TZID=America/Anchorage:20240922T020000
DTEND;TZID=America/Anchorage:20240922T020001
LOCATION:716 Totem Way #100
SUMMARY:TWO AT A TIME SOCK CLASS
END:VEVENT
END:VCALENDAR
