BEGIN:VCALENDAR
VERSION:2.0
PRODID:-//www.ketchikanarts.org//NONSGML kigkonsult.se iCalcreator 2.30.10/
 /
CALSCALE:GREGORIAN
METHOD:PUBLISH
UID:2526fee3-68de-425a-9b6f-3ae276eee48a
X-WR-CALDESC:
X-WR-RELCALID:112ea9bc728e87fdd97917f1841534ef
X-WR-TIMEZONE:America/Anchorage
BEGIN:VTIMEZONE
TZID:America/Anchorage
BEGIN:STANDARD
TZNAME:AKST
DTSTART:20231105T020000
TZOFFSETFROM:-0800
TZOFFSETTO:-0900
RDATE:20241103T020000
RDATE:20251102T020000
END:STANDARD
BEGIN:DAYLIGHT
TZNAME:AKDT
DTSTART:20240310T020000
TZOFFSETFROM:-0900
TZOFFSETTO:-0800
RDATE:20250309T020000
RDATE:20260308T020000
END:DAYLIGHT
END:VTIMEZONE
BEGIN:VEVENT
UID:22167697-aeb6-4d90-aa38-cb9b9e98a768
DTSTAMP:20260421T160358Z
DESCRIPTION:
DTSTART;TZID=America/Anchorage:20240920T170000
DTEND;TZID=America/Anchorage:20240920T190000
LOCATION:#5 Creek Street
SUMMARY:the ARTery - Fall Classes
END:VEVENT
END:VCALENDAR
