BEGIN:VCALENDAR
VERSION:2.0
PRODID:-//www.ketchikanarts.org//NONSGML kigkonsult.se iCalcreator 2.30.10/
 /
CALSCALE:GREGORIAN
METHOD:PUBLISH
UID:9150dc57-1b6e-43fb-921d-4192cbc96d77
X-WR-CALDESC:
X-WR-RELCALID:6c667a1d0eda7c3c609c4e84b3496b6f
X-WR-TIMEZONE:America/Anchorage
BEGIN:VTIMEZONE
TZID:America/Anchorage
BEGIN:STANDARD
TZNAME:AKST
DTSTART:20231105T020000
TZOFFSETFROM:-0800
TZOFFSETTO:-0900
RDATE:20241103T020000
RDATE:20251102T020000
END:STANDARD
BEGIN:DAYLIGHT
TZNAME:AKDT
DTSTART:20240310T020000
TZOFFSETFROM:-0900
TZOFFSETTO:-0800
RDATE:20250309T020000
RDATE:20260308T020000
END:DAYLIGHT
END:VTIMEZONE
BEGIN:VEVENT
UID:30c849b6-19a1-4f46-b667-7c0d18901cc9
DTSTAMP:20260421T160620Z
DESCRIPTION:
DTSTART;TZID=America/Anchorage:20240915T020000
DTEND;TZID=America/Anchorage:20240915T020001
LOCATION:Craig\, AK Recreation
SUMMARY:Craig Recreation Ballet Registration Ends
END:VEVENT
END:VCALENDAR
