BEGIN:VCALENDAR
VERSION:2.0
PRODID:-//www.ketchikanarts.org//NONSGML kigkonsult.se iCalcreator 2.30.10/
 /
CALSCALE:GREGORIAN
METHOD:PUBLISH
UID:e4c741f0-e297-4bd4-a4a8-bdb480550d43
X-WR-CALDESC:Come make an ornament (or several) for the 2024 U.S. Capitol C
 hristmas Tree! All supplies are included to make a flashy foil fish (or ot
 her maritime creature) when you visit our ornament making workshop at the 
 Tongass Historical Museum!\n
X-WR-RELCALID:39b6f982ea751340f6363a752bd6783a
X-WR-TIMEZONE:America/Anchorage
BEGIN:VTIMEZONE
TZID:America/Anchorage
BEGIN:STANDARD
TZNAME:AKST
DTSTART:20231105T020000
TZOFFSETFROM:-0800
TZOFFSETTO:-0900
RDATE:20241103T020000
RDATE:20251102T020000
END:STANDARD
BEGIN:DAYLIGHT
TZNAME:AKDT
DTSTART:20240310T020000
TZOFFSETFROM:-0900
TZOFFSETTO:-0800
RDATE:20250309T020000
RDATE:20260308T020000
END:DAYLIGHT
END:VTIMEZONE
BEGIN:VEVENT
UID:6c750823-60f7-4e86-80d9-08799a4140cd
DTSTAMP:20260421T160143Z
DESCRIPTION:Come make an ornament (or several) for the 2024 U.S. Capitol Ch
 ristmas Tree! All supplies are included to make a flashy foil fish (or oth
 er maritime creature) when you visit our ornament making workshop at the T
 ongass Historical Museum!\n
DTSTART;TZID=America/Anchorage:20240914T120000
DTEND;TZID=America/Anchorage:20240914T160000
LOCATION:629 Dock St.\, Ketchikan Museum
SUMMARY:Ornament Workshop
END:VEVENT
END:VCALENDAR
