BEGIN:VCALENDAR
VERSION:2.0
PRODID:-//www.ketchikanarts.org//NONSGML kigkonsult.se iCalcreator 2.30.10/
 /
CALSCALE:GREGORIAN
METHOD:PUBLISH
UID:58a6c10e-c479-42bb-94b4-f3fd00af51c9
X-WR-CALDESC:$75 and space is limited
X-WR-RELCALID:5ac4392b641fed2a2e4b1a28588c5bd1
X-WR-TIMEZONE:America/Anchorage
BEGIN:VTIMEZONE
TZID:America/Anchorage
BEGIN:STANDARD
TZNAME:AKST
DTSTART:20231105T020000
TZOFFSETFROM:-0800
TZOFFSETTO:-0900
RDATE:20241103T020000
RDATE:20251102T020000
END:STANDARD
BEGIN:DAYLIGHT
TZNAME:AKDT
DTSTART:20240310T020000
TZOFFSETFROM:-0900
TZOFFSETTO:-0800
RDATE:20250309T020000
RDATE:20260308T020000
END:DAYLIGHT
END:VTIMEZONE
BEGIN:VEVENT
UID:902d80ec-2ed1-4479-8144-9af6c8477b45
DTSTAMP:20260421T160342Z
DESCRIPTION:$75 and space is limited
DTSTART;TZID=America/Anchorage:20240907T100000
DTEND;TZID=America/Anchorage:20240907T200000
LOCATION:Kasaan Cafe\, Taan Island (POW)
SUMMARY:Button Vest Making with Christine Tolson
END:VEVENT
END:VCALENDAR
