BEGIN:VCALENDAR
VERSION:2.0
PRODID:-//www.ketchikanarts.org//NONSGML kigkonsult.se iCalcreator 2.30.10/
 /
CALSCALE:GREGORIAN
METHOD:PUBLISH
UID:71fc20c8-91ad-4625-977e-ac755ba6a1e4
X-WR-CALDESC:KIC Tribal youth are invited to join us for
X-WR-RELCALID:87d05a14d3554ccf6ae7932ebadaa8b8
X-WR-TIMEZONE:America/Anchorage
BEGIN:VTIMEZONE
TZID:America/Anchorage
BEGIN:STANDARD
TZNAME:AKST
DTSTART:20231105T020000
TZOFFSETFROM:-0800
TZOFFSETTO:-0900
RDATE:20241103T020000
RDATE:20251102T020000
END:STANDARD
BEGIN:DAYLIGHT
TZNAME:AKDT
DTSTART:20240310T020000
TZOFFSETFROM:-0900
TZOFFSETTO:-0800
RDATE:20250309T020000
END:DAYLIGHT
END:VTIMEZONE
BEGIN:VEVENT
UID:ce3caa8c-9f1e-4a93-a592-7ed3a967d353
DTSTAMP:20260421T173854Z
DESCRIPTION:KIC Tribal youth are invited to join us for
DTSTART;TZID=America/Anchorage:20240810T100000
DTEND;TZID=America/Anchorage:20240815T160000
LOCATION:429 Deermount St\, Ketchikan\, AK 99901 US
SUMMARY:'I Know Who I Am' Culture Camp - KIC
END:VEVENT
END:VCALENDAR
