BEGIN:VCALENDAR
VERSION:2.0
PRODID:-//www.ketchikanarts.org//NONSGML kigkonsult.se iCalcreator 2.30.10/
 /
CALSCALE:GREGORIAN
METHOD:PUBLISH
UID:7e43c57a-c35a-4364-8466-b0388be81ef6
X-WR-CALDESC:Sophmore ArtsCool is for rising K-2nd Graders. Mornings only!!
 ! 9am to 12pm
X-WR-RELCALID:2a76344bc7d3330ef0bace159c5ca62a
X-WR-TIMEZONE:America/Anchorage
BEGIN:VTIMEZONE
TZID:America/Anchorage
BEGIN:STANDARD
TZNAME:AKST
DTSTART:20231105T020000
TZOFFSETFROM:-0800
TZOFFSETTO:-0900
RDATE:20241103T020000
RDATE:20251102T020000
END:STANDARD
BEGIN:DAYLIGHT
TZNAME:AKDT
DTSTART:20240310T020000
TZOFFSETFROM:-0900
TZOFFSETTO:-0800
RDATE:20250309T020000
END:DAYLIGHT
END:VTIMEZONE
BEGIN:VEVENT
UID:b4d54b74-b0aa-4079-8220-0d49d97d9747
DTSTAMP:20260421T191832Z
DESCRIPTION:Sophmore ArtsCool is for rising K-2nd Graders. Mornings only!!!
  9am to 12pm
DTSTART;TZID=America/Anchorage:20240715T020000
DTEND;TZID=America/Anchorage:20240808T020001
LOCATION:Kayhi
SUMMARY:Sophmore ArtsCool - First City Players
END:VEVENT
END:VCALENDAR
