BEGIN:VCALENDAR
VERSION:2.0
PRODID:-//www.ketchikanarts.org//NONSGML kigkonsult.se iCalcreator 2.30.10/
 /
CALSCALE:GREGORIAN
METHOD:PUBLISH
UID:64ad6de4-8620-4bc1-8ab8-45c69382476b
X-WR-CALDESC:
X-WR-RELCALID:89571c08dc32ecd72422b24d6eab9c1a
X-WR-TIMEZONE:America/Anchorage
BEGIN:VTIMEZONE
TZID:America/Anchorage
BEGIN:STANDARD
TZNAME:AKST
DTSTART:20231105T020000
TZOFFSETFROM:-0800
TZOFFSETTO:-0900
RDATE:20241103T020000
RDATE:20251102T020000
END:STANDARD
BEGIN:DAYLIGHT
TZNAME:AKDT
DTSTART:20240310T020000
TZOFFSETFROM:-0900
TZOFFSETTO:-0800
RDATE:20250309T020000
END:DAYLIGHT
END:VTIMEZONE
BEGIN:VEVENT
UID:e8d3c83a-f4fd-4bad-9d7e-e7913346e798
DTSTAMP:20260421T220814Z
DESCRIPTION:
DTSTART;TZID=America/Anchorage:20240518T120000
DTEND;TZID=America/Anchorage:20240518T133000
LOCATION:
SUMMARY:Great American Song Book - Vocal Jazz Camp
END:VEVENT
END:VCALENDAR
