BEGIN:VCALENDAR
VERSION:2.0
PRODID:-//www.ketchikanarts.org//NONSGML kigkonsult.se iCalcreator 2.30.10/
 /
CALSCALE:GREGORIAN
METHOD:PUBLISH
UID:5fb7e76e-00c6-4887-9bbe-8a28e016f491
X-WR-CALDESC:
X-WR-RELCALID:45bf55982fc6403e6e1443abb85a5779
X-WR-TIMEZONE:America/Anchorage
BEGIN:VTIMEZONE
TZID:America/Anchorage
BEGIN:STANDARD
TZNAME:AKST
DTSTART:20231105T020000
TZOFFSETFROM:-0800
TZOFFSETTO:-0900
RDATE:20241103T020000
RDATE:20251102T020000
END:STANDARD
BEGIN:DAYLIGHT
TZNAME:AKDT
DTSTART:20240310T020000
TZOFFSETFROM:-0900
TZOFFSETTO:-0800
RDATE:20250309T020000
END:DAYLIGHT
END:VTIMEZONE
BEGIN:VEVENT
UID:98beffdf-ab8b-42ae-8520-3cf21dfe29fb
DTSTAMP:20260421T220703Z
DESCRIPTION:
DTSTART;TZID=America/Anchorage:20240511T120000
DTEND;TZID=America/Anchorage:20240511T133000
LOCATION:
SUMMARY:Great American Song Book - Vocal Jazz Camp
END:VEVENT
END:VCALENDAR
