BEGIN:VCALENDAR
VERSION:2.0
PRODID:-//www.ketchikanarts.org//NONSGML kigkonsult.se iCalcreator 2.30.10/
 /
CALSCALE:GREGORIAN
METHOD:PUBLISH
UID:d23664f7-6e6a-42b5-aa95-fe4da97d5865
X-WR-CALDESC:
X-WR-RELCALID:1dd9ba4e83bf62e6295bc5ad4ebb2ad4
X-WR-TIMEZONE:America/Anchorage
BEGIN:VTIMEZONE
TZID:America/Anchorage
BEGIN:STANDARD
TZNAME:AKST
DTSTART:20231105T020000
TZOFFSETFROM:-0800
TZOFFSETTO:-0900
RDATE:20241103T020000
RDATE:20251102T020000
END:STANDARD
BEGIN:DAYLIGHT
TZNAME:AKDT
DTSTART:20240310T020000
TZOFFSETFROM:-0900
TZOFFSETTO:-0800
RDATE:20250309T020000
END:DAYLIGHT
END:VTIMEZONE
BEGIN:VEVENT
UID:5224883b-0e91-4489-952a-559b392f9c17
DTSTAMP:20260421T220529Z
DESCRIPTION:
DTSTART;TZID=America/Anchorage:20240504T120000
DTEND;TZID=America/Anchorage:20240504T133000
LOCATION:
SUMMARY:Great American Song Book - Vocal Jazz Camp
END:VEVENT
END:VCALENDAR
