BEGIN:VCALENDAR
VERSION:2.0
PRODID:-//www.ketchikanarts.org//NONSGML kigkonsult.se iCalcreator 2.30.10/
 /
CALSCALE:GREGORIAN
METHOD:PUBLISH
UID:724e5e09-35fe-4c2d-985c-7f985cc7e73b
X-WR-CALDESC:
X-WR-RELCALID:e7eaa7a26a0c991d2205d63904bcb16d
X-WR-TIMEZONE:America/Anchorage
BEGIN:VTIMEZONE
TZID:America/Anchorage
BEGIN:STANDARD
TZNAME:AKST
DTSTART:20231105T020000
TZOFFSETFROM:-0800
TZOFFSETTO:-0900
RDATE:20241103T020000
END:STANDARD
BEGIN:DAYLIGHT
TZNAME:AKDT
DTSTART:20240310T020000
TZOFFSETFROM:-0900
TZOFFSETTO:-0800
RDATE:20250309T020000
END:DAYLIGHT
END:VTIMEZONE
BEGIN:VEVENT
UID:12114ceb-f5f9-478f-9fe6-dbef2a5240a3
DTSTAMP:20260421T233222Z
DESCRIPTION:
DTSTART;TZID=America/Anchorage:20240420T120000
DTEND;TZID=America/Anchorage:20240420T133000
LOCATION:
SUMMARY:Great American Song Book - Vocal Jazz Camp
END:VEVENT
END:VCALENDAR
