BEGIN:VCALENDAR
VERSION:2.0
PRODID:-//www.ketchikanarts.org//NONSGML kigkonsult.se iCalcreator 2.30.10/
 /
CALSCALE:GREGORIAN
METHOD:PUBLISH
UID:152dfead-66a4-48a8-8c35-1f6b75a1b29c
X-WR-CALDESC:Artist Jess Kidder of Amanita Pottery shares techniques and se
 crets for hand building pottery pieces. Materials provided. Limited to 30 
 students.\n\n$35 ($45 week of class)
X-WR-RELCALID:d513b96402d30eda69cff45063966620
X-WR-TIMEZONE:America/Anchorage
BEGIN:VTIMEZONE
TZID:America/Anchorage
BEGIN:STANDARD
TZNAME:AKST
DTSTART:20231105T020000
TZOFFSETFROM:-0800
TZOFFSETTO:-0900
RDATE:20241103T020000
END:STANDARD
BEGIN:DAYLIGHT
TZNAME:AKDT
DTSTART:20240310T020000
TZOFFSETFROM:-0900
TZOFFSETTO:-0800
RDATE:20250309T020000
END:DAYLIGHT
END:VTIMEZONE
BEGIN:VEVENT
UID:ad645a76-eaa4-4675-bf5d-c27cf40b70bb
DTSTAMP:20260421T233018Z
DESCRIPTION:Artist Jess Kidder of Amanita Pottery shares techniques and sec
 rets for hand building pottery pieces. Materials provided. Limited to 30 s
 tudents.\n\n$35 ($45 week of class)
DTSTART;TZID=America/Anchorage:20240419T190000
DTEND;TZID=America/Anchorage:20240419T210000
LOCATION:Main Street Gallery
SUMMARY:Arts Uncorked - Exploring with Pottery - Jess Kidder
END:VEVENT
END:VCALENDAR
