BEGIN:VCALENDAR
VERSION:2.0
PRODID:-//www.ketchikanarts.org//NONSGML kigkonsult.se iCalcreator 2.30.10/
 /
CALSCALE:GREGORIAN
METHOD:PUBLISH
UID:ed32f707-1d9d-4668-a6bd-6a967f36de11
X-WR-CALDESC:
X-WR-RELCALID:8cc52a020ead95d9f52308b6487d7a25
X-WR-TIMEZONE:America/Anchorage
BEGIN:VTIMEZONE
TZID:America/Anchorage
BEGIN:STANDARD
TZNAME:AKST
DTSTART:20231105T020000
TZOFFSETFROM:-0800
TZOFFSETTO:-0900
RDATE:20241103T020000
END:STANDARD
BEGIN:DAYLIGHT
TZNAME:AKDT
DTSTART:20240310T020000
TZOFFSETFROM:-0900
TZOFFSETTO:-0800
RDATE:20250309T020000
END:DAYLIGHT
END:VTIMEZONE
BEGIN:VEVENT
UID:b392ab92-f5d3-44df-b220-9a10526094c8
DTSTAMP:20260421T235557Z
DESCRIPTION:
DTSTART;TZID=America/Anchorage:20240410T183000
DTEND;TZID=America/Anchorage:20240410T200000
LOCATION:First Lutheran Church
SUMMARY:Ketchikan Chamber Orchestra Rehearsal
END:VEVENT
END:VCALENDAR
