BEGIN:VCALENDAR
VERSION:2.0
PRODID:-//www.ketchikanarts.org//NONSGML kigkonsult.se iCalcreator 2.30.10/
 /
CALSCALE:GREGORIAN
METHOD:PUBLISH
UID:1c67b19c-5b87-4515-8d30-0f2a388f76bd
X-WR-CALDESC:
X-WR-RELCALID:3553f2639843e5300f188f16a3e8e1bc
X-WR-TIMEZONE:America/Anchorage
BEGIN:VTIMEZONE
TZID:America/Anchorage
BEGIN:STANDARD
TZNAME:AKST
DTSTART:20231105T020000
TZOFFSETFROM:-0800
TZOFFSETTO:-0900
RDATE:20241103T020000
END:STANDARD
BEGIN:DAYLIGHT
TZNAME:AKDT
DTSTART:20240310T020000
TZOFFSETFROM:-0900
TZOFFSETTO:-0800
RDATE:20250309T020000
END:DAYLIGHT
END:VTIMEZONE
BEGIN:VEVENT
UID:e7e2445e-5ead-4cc5-a9cb-5aa43e6bd82a
DTSTAMP:20260421T233558Z
DESCRIPTION:
DTSTART;TZID=America/Anchorage:20240401T190000
DTEND;TZID=America/Anchorage:20240401T203000
LOCATION:First Assembly of God Church
SUMMARY:Ketchikan Community Concert Band Rehearsal
END:VEVENT
END:VCALENDAR
