BEGIN:VCALENDAR
VERSION:2.0
PRODID:-//www.ketchikanarts.org//NONSGML kigkonsult.se iCalcreator 2.30.10/
 /
CALSCALE:GREGORIAN
METHOD:PUBLISH
UID:7149f90a-506b-49e6-910c-a5d4bf114e83
X-WR-CALDESC:
X-WR-RELCALID:04ac3c72f4ddd6db73579eeb5fb2a22b
X-WR-TIMEZONE:America/Anchorage
BEGIN:VTIMEZONE
TZID:America/Anchorage
BEGIN:STANDARD
TZNAME:AKST
DTSTART:20231105T020000
TZOFFSETFROM:-0800
TZOFFSETTO:-0900
RDATE:20241103T020000
END:STANDARD
BEGIN:DAYLIGHT
TZNAME:AKDT
DTSTART:20240310T020000
TZOFFSETFROM:-0900
TZOFFSETTO:-0800
RDATE:20250309T020000
END:DAYLIGHT
END:VTIMEZONE
BEGIN:VEVENT
UID:0b5bf885-b97b-4af6-92f0-6643068ccd30
DTSTAMP:20260422T010808Z
DESCRIPTION:
DTSTART;TZID=America/Anchorage:20240327T183000
DTEND;TZID=America/Anchorage:20240327T200000
LOCATION:First Lutheran Church
SUMMARY:Ketchikan Chamber Orchestra Rehearsal
END:VEVENT
END:VCALENDAR
