BEGIN:VCALENDAR
VERSION:2.0
PRODID:-//www.ketchikanarts.org//NONSGML kigkonsult.se iCalcreator 2.30.10/
 /
CALSCALE:GREGORIAN
METHOD:PUBLISH
UID:55b55419-eeed-474a-8c86-8868116e6518
X-WR-CALDESC:
X-WR-RELCALID:ba296756db39c9631539922d4a6bbff7
X-WR-TIMEZONE:America/Anchorage
BEGIN:VTIMEZONE
TZID:America/Anchorage
BEGIN:STANDARD
TZNAME:AKST
DTSTART:20231105T020000
TZOFFSETFROM:-0800
TZOFFSETTO:-0900
RDATE:20241103T020000
END:STANDARD
BEGIN:DAYLIGHT
TZNAME:AKDT
DTSTART:20240310T020000
TZOFFSETFROM:-0900
TZOFFSETTO:-0800
RDATE:20250309T020000
END:DAYLIGHT
END:VTIMEZONE
BEGIN:VEVENT
UID:5aba0362-a891-4e4e-abf1-6c1541c3a225
DTSTAMP:20260422T010736Z
DESCRIPTION:
DTSTART;TZID=America/Anchorage:20240326T190000
DTEND;TZID=America/Anchorage:20240326T210000
LOCATION:First Methodist Church on Main St
SUMMARY:Ketchikan Community Chorus Rehearsal
END:VEVENT
END:VCALENDAR
