BEGIN:VCALENDAR
VERSION:2.0
PRODID:-//www.ketchikanarts.org//NONSGML kigkonsult.se iCalcreator 2.30.10/
 /
CALSCALE:GREGORIAN
METHOD:PUBLISH
UID:4f240c43-f7ca-4964-acf9-6e6311a3e567
X-WR-CALDESC:
X-WR-RELCALID:afc55e0ef2522ab0badd00ec2eb9566f
X-WR-TIMEZONE:America/Anchorage
BEGIN:VTIMEZONE
TZID:America/Anchorage
BEGIN:STANDARD
TZNAME:AKST
DTSTART:20231105T020000
TZOFFSETFROM:-0800
TZOFFSETTO:-0900
RDATE:20241103T020000
END:STANDARD
BEGIN:DAYLIGHT
TZNAME:AKDT
DTSTART:20240310T020000
TZOFFSETFROM:-0900
TZOFFSETTO:-0800
RDATE:20250309T020000
END:DAYLIGHT
END:VTIMEZONE
BEGIN:VEVENT
UID:fe883d49-2c34-45fb-b7b7-26581ed83240
DTSTAMP:20260422T011003Z
DESCRIPTION:
DTSTART;TZID=America/Anchorage:20240318T190000
DTEND;TZID=America/Anchorage:20240318T203000
LOCATION:First Assembly of God Church
SUMMARY:Ketchikan Community Concert Band Rehearsal
END:VEVENT
END:VCALENDAR
