BEGIN:VCALENDAR
VERSION:2.0
PRODID:-//www.ketchikanarts.org//NONSGML kigkonsult.se iCalcreator 2.30.10/
 /
CALSCALE:GREGORIAN
METHOD:PUBLISH
UID:6f7296be-c2e6-4fdd-a85f-814639fffa1b
X-WR-CALDESC:
X-WR-RELCALID:010cb203690353d213e76a9caa924b60
X-WR-TIMEZONE:America/Anchorage
BEGIN:VTIMEZONE
TZID:America/Anchorage
BEGIN:STANDARD
TZNAME:AKST
DTSTART:20231105T020000
TZOFFSETFROM:-0800
TZOFFSETTO:-0900
RDATE:20241103T020000
END:STANDARD
BEGIN:DAYLIGHT
TZNAME:AKDT
DTSTART:20230312T020000
TZOFFSETFROM:-0900
TZOFFSETTO:-0800
RDATE:20240310T020000
RDATE:20250309T020000
END:DAYLIGHT
END:VTIMEZONE
BEGIN:VEVENT
UID:877c3d0f-c37d-4089-b03e-42c961a4173b
DTSTAMP:20260422T010716Z
DESCRIPTION:
DTSTART;TZID=America/Anchorage:20240305T190000
DTEND;TZID=America/Anchorage:20240305T210000
LOCATION:First Methodist Church on Main St
SUMMARY:Ketchikan Community Chorus Rehearsal
END:VEVENT
END:VCALENDAR
