BEGIN:VCALENDAR
VERSION:2.0
PRODID:-//www.ketchikanarts.org//NONSGML kigkonsult.se iCalcreator 2.30.10/
 /
CALSCALE:GREGORIAN
METHOD:PUBLISH
UID:7c0ee68b-10e3-4876-a07a-ee1f9e32bc2a
X-WR-CALDESC:
X-WR-RELCALID:df2857550eee15f2aee850c82b4ed1dc
X-WR-TIMEZONE:America/Anchorage
BEGIN:VTIMEZONE
TZID:America/Anchorage
BEGIN:STANDARD
TZNAME:AKST
DTSTART:20231105T020000
TZOFFSETFROM:-0800
TZOFFSETTO:-0900
RDATE:20241103T020000
END:STANDARD
BEGIN:DAYLIGHT
TZNAME:AKDT
DTSTART:20230312T020000
TZOFFSETFROM:-0900
TZOFFSETTO:-0800
RDATE:20240310T020000
RDATE:20250309T020000
END:DAYLIGHT
END:VTIMEZONE
BEGIN:VEVENT
UID:70601e11-6266-4e1e-8825-c40f4b3822fb
DTSTAMP:20260422T010904Z
DESCRIPTION:
DTSTART;TZID=America/Anchorage:20240304T190000
DTEND;TZID=America/Anchorage:20240304T203000
LOCATION:First Assembly of God Church
SUMMARY:Ketchikan Community Concert Band Rehearsal
END:VEVENT
END:VCALENDAR
