BEGIN:VCALENDAR
VERSION:2.0
PRODID:-//www.ketchikanarts.org//NONSGML kigkonsult.se iCalcreator 2.30.10/
 /
CALSCALE:GREGORIAN
METHOD:PUBLISH
UID:3ba77a31-0677-469a-bc7f-3f3bce913c90
X-WR-CALDESC:
X-WR-RELCALID:6bbdf2e05799e95b486c7a78eed92388
X-WR-TIMEZONE:America/Anchorage
BEGIN:VTIMEZONE
TZID:America/Anchorage
BEGIN:STANDARD
TZNAME:AKST
DTSTART:20231105T020000
TZOFFSETFROM:-0800
TZOFFSETTO:-0900
RDATE:20241103T020000
END:STANDARD
BEGIN:DAYLIGHT
TZNAME:AKDT
DTSTART:20230312T020000
TZOFFSETFROM:-0900
TZOFFSETTO:-0800
RDATE:20240310T020000
RDATE:20250309T020000
END:DAYLIGHT
END:VTIMEZONE
BEGIN:VEVENT
UID:da212fca-3e3c-49f4-8834-35ed64af0011
DTSTAMP:20260422T025019Z
DESCRIPTION:
DTSTART;TZID=America/Anchorage:20240221T183000
DTEND;TZID=America/Anchorage:20240221T200000
LOCATION:First Lutheran Church
SUMMARY:Ketchikan Chamber Orchestra Rehearsal
END:VEVENT
END:VCALENDAR
