BEGIN:VCALENDAR
VERSION:2.0
PRODID:-//www.ketchikanarts.org//NONSGML kigkonsult.se iCalcreator 2.30.10/
 /
CALSCALE:GREGORIAN
METHOD:PUBLISH
UID:4dbfa3e1-5633-4e3f-a3e5-01059e05995a
X-WR-CALDESC:
X-WR-RELCALID:1e3d65153c87cc81bbc829eafdd50118
X-WR-TIMEZONE:America/Anchorage
BEGIN:VTIMEZONE
TZID:America/Anchorage
BEGIN:STANDARD
TZNAME:AKST
DTSTART:20231105T020000
TZOFFSETFROM:-0800
TZOFFSETTO:-0900
RDATE:20241103T020000
END:STANDARD
BEGIN:DAYLIGHT
TZNAME:AKDT
DTSTART:20230312T020000
TZOFFSETFROM:-0900
TZOFFSETTO:-0800
RDATE:20240310T020000
RDATE:20250309T020000
END:DAYLIGHT
END:VTIMEZONE
BEGIN:VEVENT
UID:e53de55c-5321-4992-b088-e687fe2bf303
DTSTAMP:20260422T025019Z
DESCRIPTION:
DTSTART;TZID=America/Anchorage:20240213T190000
DTEND;TZID=America/Anchorage:20240213T210000
LOCATION:First Methodist Church on Main St
SUMMARY:Ketchikan Community Chorus Rehearsal
END:VEVENT
END:VCALENDAR
