BEGIN:VCALENDAR
VERSION:2.0
PRODID:-//www.ketchikanarts.org//NONSGML kigkonsult.se iCalcreator 2.30.10/
 /
CALSCALE:GREGORIAN
METHOD:PUBLISH
UID:b0b280de-3086-4b14-b117-afd9ae5252d1
X-WR-CALDESC:
X-WR-RELCALID:ec248ca7251898b43821f01100a3c567
X-WR-TIMEZONE:America/Anchorage
BEGIN:VTIMEZONE
TZID:America/Anchorage
BEGIN:STANDARD
TZNAME:AKST
DTSTART:20231105T020000
TZOFFSETFROM:-0800
TZOFFSETTO:-0900
RDATE:20241103T020000
END:STANDARD
BEGIN:DAYLIGHT
TZNAME:AKDT
DTSTART:20230312T020000
TZOFFSETFROM:-0900
TZOFFSETTO:-0800
RDATE:20240310T020000
RDATE:20250309T020000
END:DAYLIGHT
END:VTIMEZONE
BEGIN:VEVENT
UID:b73905b8-ec23-40ac-9c3e-e1c2d3a4ad25
DTSTAMP:20260422T025028Z
DESCRIPTION:
DTSTART;TZID=America/Anchorage:20240207T183000
DTEND;TZID=America/Anchorage:20240207T200000
LOCATION:First Lutheran Church
SUMMARY:Ketchikan Chamber Orchestra Rehearsal
END:VEVENT
END:VCALENDAR
