BEGIN:VCALENDAR
VERSION:2.0
PRODID:-//www.ketchikanarts.org//NONSGML kigkonsult.se iCalcreator 2.30.10/
 /
CALSCALE:GREGORIAN
METHOD:PUBLISH
UID:241f8311-4ac0-49a5-af3b-d4f092a48be5
X-WR-CALDESC:
X-WR-RELCALID:100e1fb598f480cc5ff1aff93a367b42
X-WR-TIMEZONE:America/Anchorage
BEGIN:VTIMEZONE
TZID:America/Anchorage
BEGIN:STANDARD
TZNAME:AKST
DTSTART:20231105T020000
TZOFFSETFROM:-0800
TZOFFSETTO:-0900
RDATE:20241103T020000
END:STANDARD
BEGIN:DAYLIGHT
TZNAME:AKDT
DTSTART:20230312T020000
TZOFFSETFROM:-0900
TZOFFSETTO:-0800
RDATE:20240310T020000
RDATE:20250309T020000
END:DAYLIGHT
END:VTIMEZONE
BEGIN:VEVENT
UID:028c815b-ee16-4ed4-9bad-58e6cdd2d383
DTSTAMP:20260422T025223Z
DESCRIPTION:
DTSTART;TZID=America/Anchorage:20240205T190000
DTEND;TZID=America/Anchorage:20240205T203000
LOCATION:First Assembly of God Church
SUMMARY:Ketchikan Community Concert Band Rehearsal
END:VEVENT
END:VCALENDAR
