BEGIN:VCALENDAR
VERSION:2.0
PRODID:-//www.ketchikanarts.org//NONSGML kigkonsult.se iCalcreator 2.30.10/
 /
CALSCALE:GREGORIAN
METHOD:PUBLISH
UID:b3006907-bc1d-4f10-905e-2fbabe7127be
X-WR-CALDESC:
X-WR-RELCALID:f16936728bc16037110e9daa791e8b6a
X-WR-TIMEZONE:America/Anchorage
BEGIN:VTIMEZONE
TZID:America/Anchorage
BEGIN:STANDARD
TZNAME:AKST
DTSTART:20231105T020000
TZOFFSETFROM:-0800
TZOFFSETTO:-0900
RDATE:20241103T020000
END:STANDARD
BEGIN:DAYLIGHT
TZNAME:AKDT
DTSTART:20230312T020000
TZOFFSETFROM:-0900
TZOFFSETTO:-0800
RDATE:20240310T020000
RDATE:20250309T020000
END:DAYLIGHT
END:VTIMEZONE
BEGIN:VEVENT
UID:81c15d44-2f40-4def-8b8c-4bd735737881
DTSTAMP:20260422T043331Z
DESCRIPTION:
DTSTART;TZID=America/Anchorage:20240129T190000
DTEND;TZID=America/Anchorage:20240129T203000
LOCATION:First Assembly of God Church
SUMMARY:Ketchikan Community Concert Band Rehearsal
END:VEVENT
END:VCALENDAR
