BEGIN:VCALENDAR
VERSION:2.0
PRODID:-//www.ketchikanarts.org//NONSGML kigkonsult.se iCalcreator 2.30.10/
 /
CALSCALE:GREGORIAN
METHOD:PUBLISH
UID:39829da8-88b2-4c3b-b475-c164dc5bb10c
X-WR-CALDESC:
X-WR-RELCALID:7df824ce43be2c911bbdb69e2688d996
X-WR-TIMEZONE:America/Anchorage
BEGIN:VTIMEZONE
TZID:America/Anchorage
BEGIN:STANDARD
TZNAME:AKST
DTSTART:20231105T020000
TZOFFSETFROM:-0800
TZOFFSETTO:-0900
RDATE:20241103T020000
END:STANDARD
BEGIN:DAYLIGHT
TZNAME:AKDT
DTSTART:20230312T020000
TZOFFSETFROM:-0900
TZOFFSETTO:-0800
RDATE:20240310T020000
RDATE:20250309T020000
END:DAYLIGHT
END:VTIMEZONE
BEGIN:VEVENT
UID:bc4d0302-c762-4fdb-9b6c-1e8bb25103f4
DTSTAMP:20260422T045358Z
DESCRIPTION:
DTSTART;TZID=America/Anchorage:20240124T183000
DTEND;TZID=America/Anchorage:20240124T200000
LOCATION:First Lutheran Church
SUMMARY:Ketchikan Chamber Orchestra Rehearsal
END:VEVENT
END:VCALENDAR
