BEGIN:VCALENDAR
VERSION:2.0
PRODID:-//www.ketchikanarts.org//NONSGML kigkonsult.se iCalcreator 2.30.10/
 /
CALSCALE:GREGORIAN
METHOD:PUBLISH
UID:346a4a9d-0508-4e44-b6a1-d93990fcf858
X-WR-CALDESC:There are still spots available for this awesome class taught 
 by Kevin Clevenger!
X-WR-RELCALID:b91600856c045a8929984fd6268315f4
X-WR-TIMEZONE:America/Anchorage
BEGIN:VTIMEZONE
TZID:America/Anchorage
BEGIN:STANDARD
TZNAME:AKST
DTSTART:20231105T020000
TZOFFSETFROM:-0800
TZOFFSETTO:-0900
RDATE:20241103T020000
END:STANDARD
BEGIN:DAYLIGHT
TZNAME:AKDT
DTSTART:20230312T020000
TZOFFSETFROM:-0900
TZOFFSETTO:-0800
RDATE:20240310T020000
RDATE:20250309T020000
END:DAYLIGHT
END:VTIMEZONE
BEGIN:VEVENT
UID:62c13e3f-4358-495e-a298-a0eb9b64dfd6
DTSTAMP:20260422T060840Z
DESCRIPTION:There are still spots available for this awesome class taught b
 y Kevin Clevenger!
DTSTART;TZID=America/Anchorage:20231221T173000
DTEND;TZID=America/Anchorage:20231221T210000
LOCATION:Ketchikan\, AK
SUMMARY:Beginning Carving Class with Kevin Clevenger!
END:VEVENT
END:VCALENDAR
