BEGIN:VCALENDAR
VERSION:2.0
PRODID:-//www.ketchikanarts.org//NONSGML kigkonsult.se iCalcreator 2.30.10/
 /
CALSCALE:GREGORIAN
METHOD:PUBLISH
UID:eba9d85b-e6d5-47bf-b0f1-2588a830c579
X-WR-CALDESC:
X-WR-RELCALID:64c22b049d37bcc0cbcf47bfd156a516
X-WR-TIMEZONE:America/Anchorage
BEGIN:VTIMEZONE
TZID:America/Anchorage
BEGIN:STANDARD
TZNAME:AKST
DTSTART:20231105T020000
TZOFFSETFROM:-0800
TZOFFSETTO:-0900
RDATE:20241103T020000
END:STANDARD
BEGIN:DAYLIGHT
TZNAME:AKDT
DTSTART:20230312T020000
TZOFFSETFROM:-0900
TZOFFSETTO:-0800
RDATE:20240310T020000
RDATE:20250309T020000
END:DAYLIGHT
END:VTIMEZONE
BEGIN:VEVENT
UID:44bdfd7c-c4ee-436e-b3a5-623d37ae6a62
DTSTAMP:20260422T061415Z
DESCRIPTION:
DTSTART;TZID=America/Anchorage:20231218T173000
DTEND;TZID=America/Anchorage:20231218T193000
LOCATION:Main Street Gallery
SUMMARY:BOOMbal Dancehall
END:VEVENT
END:VCALENDAR
