BEGIN:VCALENDAR
VERSION:2.0
PRODID:-//www.ketchikanarts.org//NONSGML kigkonsult.se iCalcreator 2.30.10/
 /
CALSCALE:GREGORIAN
METHOD:PUBLISH
UID:81d3d6cd-e3bd-4831-8671-ffd514edf257
X-WR-CALDESC:There are still spots available for this awesome class taught 
 by Kevin Clevenger!
X-WR-RELCALID:e91d1010c4607456535974e36d44261e
X-WR-TIMEZONE:America/Anchorage
BEGIN:VTIMEZONE
TZID:America/Anchorage
BEGIN:STANDARD
TZNAME:AKST
DTSTART:20231105T020000
TZOFFSETFROM:-0800
TZOFFSETTO:-0900
RDATE:20241103T020000
END:STANDARD
BEGIN:DAYLIGHT
TZNAME:AKDT
DTSTART:20230312T020000
TZOFFSETFROM:-0900
TZOFFSETTO:-0800
RDATE:20240310T020000
RDATE:20250309T020000
END:DAYLIGHT
END:VTIMEZONE
BEGIN:VEVENT
UID:9d5858ae-e3f3-42dd-9a65-55e0fca7c788
DTSTAMP:20260422T061859Z
DESCRIPTION:There are still spots available for this awesome class taught b
 y Kevin Clevenger!
DTSTART;TZID=America/Anchorage:20231218T173000
DTEND;TZID=America/Anchorage:20231218T210000
LOCATION:Ketchikan\, AK
SUMMARY:Beginning Carving Class with Kevin Clevenger!
END:VEVENT
END:VCALENDAR
